BEGIN:VCALENDAR
VERSION:2.0
PRODID:-//Föreningen Gamla Carlscrona - ECPv6.15.17.1//NONSGML v1.0//EN
CALSCALE:GREGORIAN
METHOD:PUBLISH
X-WR-CALNAME:Föreningen Gamla Carlscrona
X-ORIGINAL-URL:https://fgc.nu
X-WR-CALDESC:Händelser för Föreningen Gamla Carlscrona
REFRESH-INTERVAL;VALUE=DURATION:PT1H
X-Robots-Tag:noindex
X-PUBLISHED-TTL:PT1H
BEGIN:VTIMEZONE
TZID:Europe/Stockholm
BEGIN:DAYLIGHT
TZOFFSETFROM:+0100
TZOFFSETTO:+0200
TZNAME:CEST
DTSTART:20220327T010000
END:DAYLIGHT
BEGIN:STANDARD
TZOFFSETFROM:+0200
TZOFFSETTO:+0100
TZNAME:CET
DTSTART:20221030T010000
END:STANDARD
BEGIN:DAYLIGHT
TZOFFSETFROM:+0100
TZOFFSETTO:+0200
TZNAME:CEST
DTSTART:20230326T010000
END:DAYLIGHT
BEGIN:STANDARD
TZOFFSETFROM:+0200
TZOFFSETTO:+0100
TZNAME:CET
DTSTART:20231029T010000
END:STANDARD
BEGIN:DAYLIGHT
TZOFFSETFROM:+0100
TZOFFSETTO:+0200
TZNAME:CEST
DTSTART:20240331T010000
END:DAYLIGHT
BEGIN:STANDARD
TZOFFSETFROM:+0200
TZOFFSETTO:+0100
TZNAME:CET
DTSTART:20241027T010000
END:STANDARD
END:VTIMEZONE
BEGIN:VEVENT
DTSTART;TZID=Europe/Stockholm:20231203T120000
DTEND;TZID=Europe/Stockholm:20231203T160000
DTSTAMP:20260420T111403
CREATED:20231121T093220Z
LAST-MODIFIED:20231121T121924Z
UID:8352-1701604800-1701619200@fgc.nu
SUMMARY:Första advent - Öppet hus 12-16
DESCRIPTION:Öppettider: kl. 12-16. Adventskaffe\, glögg och pepparkakor\nÅrets Bok 2023 presenteras och kan inhandlas\nVi önskar varandra en God Jul & Gott Nytt År
URL:https://fgc.nu/event/forsta-advent-oppet-hus-12-16/
LOCATION:Föreningslokalen\, Alamedan 11 A\, Karlskrona\, 371 30
END:VEVENT
END:VCALENDAR